BEGIN:VCALENDAR
VERSION:2.0
PRODID:icalendar-ruby
CALSCALE:GREGORIAN
METHOD:PUBLISH
BEGIN:VEVENT
DTSTAMP:20260424T200841Z
UID:https://www.mpipriv.de/events/45510/1135500
DTSTART:20260513T140000Z
CLASS:PUBLIC
CREATED:20260422T101645Z
DESCRIPTION:
LAST-MODIFIED:20260424T131556Z
LOCATION:online
SUMMARY: Artificial Justice Speaker Series: Neel Guha (Stanford University)
 : An Institutional View of Legal AI Benchmarking
URL;VALUE=URI:https://www.mpipriv.de/events/45510/1135500
END:VEVENT
END:VCALENDAR
