BEGIN:VCALENDAR
VERSION:2.0
PRODID:icalendar-ruby
CALSCALE:GREGORIAN
METHOD:PUBLISH
BEGIN:VEVENT
DTSTAMP:20260422T152328Z
UID:https://www.mpipriv.de/events/45509/2371
DTSTART:20260513T140000Z
CLASS:PUBLIC
CREATED:20260422T101554Z
DESCRIPTION:
LAST-MODIFIED:20260422T103628Z
LOCATION:Online-Veranstaltung
SUMMARY:Speaker Series der Minerva Fast Track Research Group "Artificial Ju
 stice": Neel Guha (Stanford University): An Institutional View of Legal AI
  Benchmarking
URL;VALUE=URI:https://www.mpipriv.de/events/45509/2371
END:VEVENT
END:VCALENDAR
