BEGIN:VCALENDAR
VERSION:2.0
PRODID:icalendar-ruby
CALSCALE:GREGORIAN
METHOD:PUBLISH
BEGIN:VEVENT
DTSTAMP:20260423T050824Z
UID:https://www.mpipriv.de/events/45381/2129489
DTSTART:20260518T130000Z
CLASS:PUBLIC
CREATED:20260414T103915Z
DESCRIPTION:
LAST-MODIFIED:20260414T105100Z
LOCATION:Max Planck Institute for Comparative and International Private Law
SUMMARY:Opening Event: Kick-off of the Institute’s Anniversary Celebratio
 ns
URL;VALUE=URI:https://www.mpipriv.de/events/45381/2129489
END:VEVENT
END:VCALENDAR
