BEGIN:VCALENDAR
VERSION:2.0
PRODID:icalendar-ruby
CALSCALE:GREGORIAN
METHOD:PUBLISH
BEGIN:VEVENT
DTSTAMP:20260423T063230Z
UID:https://www.mpipriv.de/events/45380/2129384
DTSTART:20260518T130000Z
CLASS:PUBLIC
CREATED:20260414T103846Z
DESCRIPTION:
LAST-MODIFIED:20260414T105732Z
LOCATION:Max-Planck-Institut für ausländisches und internationales Privat
 recht
SUMMARY:Auftaktveranstaltung: Auftaktveranstaltung anlässlich der Feierlic
 hkeiten zu unserem 100. Jubiläum 
URL;VALUE=URI:https://www.mpipriv.de/events/45380/2129384
END:VEVENT
END:VCALENDAR
