BEGIN:VCALENDAR
VERSION:2.0
PRODID:icalendar-ruby
CALSCALE:GREGORIAN
METHOD:PUBLISH
BEGIN:VEVENT
DTSTAMP:20260423T110424Z
UID:https://www.mpipriv.de/events/45247/1136731
DTSTART:20260420T150000Z
CLASS:PUBLIC
CREATED:20260327T153352Z
DESCRIPTION:
LAST-MODIFIED:20260422T103831Z
LOCATION:Max Planck Institute for Comparative and International Private Law
SUMMARY:Hamburg Lecture Series on Chinese Law :  Karman Lucero (Yale Law Sc
 hool): What Kind of Innovation is e-CNY? 
URL;VALUE=URI:https://www.mpipriv.de/events/45247/1136731
END:VEVENT
END:VCALENDAR
