BEGIN:VCALENDAR
VERSION:2.0
PRODID:icalendar-ruby
CALSCALE:GREGORIAN
METHOD:PUBLISH
BEGIN:VEVENT
DTSTAMP:20260425T143505Z
UID:https://www.mpipriv.de/events/45191/2371
DTSTART:20260504T103000Z
CLASS:PUBLIC
CREATED:20260323T111834Z
DESCRIPTION:
LAST-MODIFIED:20260323T115200Z
LOCATION:Hybrid-Veranstaltung
SUMMARY:Vortrag: Prof. Dr. Michael Grünberger (Bucerius Law School): Diver
 sity in Academia – Perspectives of a First-Generation Academic
URL;VALUE=URI:https://www.mpipriv.de/events/45191/2371
END:VEVENT
END:VCALENDAR
