BEGIN:VCALENDAR
VERSION:2.0
PRODID:icalendar-ruby
CALSCALE:GREGORIAN
METHOD:PUBLISH
BEGIN:VEVENT
DTSTAMP:20260425T143133Z
UID:https://www.mpipriv.de/events/45112/2371
DTSTART:20260429T163000Z
CLASS:PUBLIC
CREATED:20260316T103640Z
DESCRIPTION:
LAST-MODIFIED:20260323T094108Z
LOCATION:Online-Veranstaltung
SUMMARY:MPI-ASADIP Trialogues in Private International Law :  José Antonio
  Moreno Rodríguez: Private International Law in International Investment 
 Contracts 
URL;VALUE=URI:https://www.mpipriv.de/events/45112/2371
END:VEVENT
END:VCALENDAR
