BEGIN:VCALENDAR
VERSION:2.0
PRODID:icalendar-ruby
CALSCALE:GREGORIAN
METHOD:PUBLISH
BEGIN:VEVENT
DTSTAMP:20260423T110506Z
UID:https://www.mpipriv.de/events/45081/1136731
DTSTART:20260324T160000Z
CLASS:PUBLIC
CREATED:20260312T151121Z
DESCRIPTION:
LAST-MODIFIED:20260327T154559Z
LOCATION:virtual lecture
SUMMARY:Corporate Responsibility | ESG: Alexander Hellgardt: The Limited Re
 gulatory Impact of ESG Information Duties
URL;VALUE=URI:https://www.mpipriv.de/events/45081/1136731
END:VEVENT
END:VCALENDAR
