BEGIN:VCALENDAR
VERSION:2.0
PRODID:icalendar-ruby
CALSCALE:GREGORIAN
METHOD:PUBLISH
BEGIN:VEVENT
DTSTAMP:20260423T110507Z
UID:https://www.mpipriv.de/events/45079/1136731
DTSTART:20260407T090000Z
CLASS:PUBLIC
CREATED:20260312T150115Z
DESCRIPTION:
LAST-MODIFIED:20260312T150545Z
LOCATION:online
SUMMARY:Current Research in Private International Law: Chukwuma Okoli (Univ
 ersity of Birmingham): Choice of Law for Employment Contracts in Africa: R
 ethinking the EU Methodology in an African Context
URL;VALUE=URI:https://www.mpipriv.de/events/45079/1136731
END:VEVENT
END:VCALENDAR
