BEGIN:VCALENDAR
VERSION:2.0
PRODID:icalendar-ruby
CALSCALE:GREGORIAN
METHOD:PUBLISH
BEGIN:VEVENT
DTSTAMP:20260425T162537Z
UID:https://www.mpipriv.de/events/45078/1190683
DTSTART:20260407T090000Z
CLASS:PUBLIC
CREATED:20260312T150010Z
DESCRIPTION:
LAST-MODIFIED:20260312T150938Z
LOCATION:Online-Veranstaltung
SUMMARY:Aktuelle Forschung im Internationalen Privatrecht: Chukwuma Okoli (
 University of Birmingham): Choice of Law for Employment Contracts in Afric
 a: Rethinking the EU Methodology in an African Context
URL;VALUE=URI:https://www.mpipriv.de/events/45078/1190683
END:VEVENT
END:VCALENDAR
