BEGIN:VCALENDAR
VERSION:2.0
PRODID:icalendar-ruby
CALSCALE:GREGORIAN
METHOD:PUBLISH
BEGIN:VEVENT
DTSTAMP:20260423T110506Z
UID:https://www.mpipriv.de/events/45052/1136731
DTSTART:20260401T120000Z
CLASS:PUBLIC
CREATED:20260311T103429Z
DESCRIPTION:
LAST-MODIFIED:20260422T101640Z
LOCATION:online
SUMMARY:Speaker Series of the Minerva Fast Track Research Group "Artificial
  Justice" : Damien Charlotin (HEC Paris): The Authority of Style: Hallucin
 ations and the Epistemic Breach in Law
URL;VALUE=URI:https://www.mpipriv.de/events/45052/1136731
END:VEVENT
END:VCALENDAR
