BEGIN:VCALENDAR
VERSION:2.0
PRODID:icalendar-ruby
CALSCALE:GREGORIAN
METHOD:PUBLISH
BEGIN:VEVENT
DTSTAMP:20260423T110424Z
UID:https://www.mpipriv.de/events/44941/1136731
DTSTART:20260311T160000Z
CLASS:PUBLIC
CREATED:20260227T164744Z
DESCRIPTION:
LAST-MODIFIED:20260312T152412Z
LOCATION:online
SUMMARY:Corporate Responsibility | ESG: Giacomo Sebis: Human Rights and Cir
 cular Economy: An International Legal Framework for a Socio-Ecological Eco
 nomy
URL;VALUE=URI:https://www.mpipriv.de/events/44941/1136731
END:VEVENT
END:VCALENDAR
