BEGIN:VCALENDAR
VERSION:2.0
PRODID:icalendar-ruby
CALSCALE:GREGORIAN
METHOD:PUBLISH
BEGIN:VEVENT
DTSTAMP:20260423T105521Z
UID:https://www.mpipriv.de/events/44938/1136731
DTSTART:20260320T153000Z
CLASS:PUBLIC
CREATED:20260227T150233Z
DESCRIPTION:
LAST-MODIFIED:20260327T153348Z
LOCATION:Max Planck Institute for Comparative and International Private Law
SUMMARY:Hamburg Lecture Series on Chinese Law : Aaron Pfautsch (Universitä
 t Freiburg): Das neue chinesische Register für Mobiliarsicherheiten – E
 ffizienzgewinn durch Registerpublizität?
URL;VALUE=URI:https://www.mpipriv.de/events/44938/1136731
END:VEVENT
END:VCALENDAR
