BEGIN:VCALENDAR
VERSION:2.0
PRODID:icalendar-ruby
CALSCALE:GREGORIAN
METHOD:PUBLISH
BEGIN:VEVENT
DTSTAMP:20260423T110531Z
UID:https://www.mpipriv.de/events/44891/1136731
DTSTART:20260305T130000Z
CLASS:PUBLIC
CREATED:20260223T155723Z
DESCRIPTION:
LAST-MODIFIED:20260312T152509Z
LOCATION:online
SUMMARY:Speaker Series of the Minerva Fast Track Research Group "Artificial
  Justice" : Giovanni Sileno (University of Amsterdam): The Case for Normwa
 re
URL;VALUE=URI:https://www.mpipriv.de/events/44891/1136731
END:VEVENT
END:VCALENDAR
