BEGIN:VCALENDAR
VERSION:2.0
PRODID:icalendar-ruby
CALSCALE:GREGORIAN
METHOD:PUBLISH
BEGIN:VEVENT
DTSTAMP:20260423T123156Z
UID:https://www.mpipriv.de/events/44785/2028073
DTSTART:20260227T140000Z
CLASS:PUBLIC
CREATED:20260213T105237Z
DESCRIPTION:
LAST-MODIFIED:20260312T152707Z
LOCATION:Max-Planck-Institut für ausländisches und internationales Privat
 recht
SUMMARY:Aktuelle Entwicklungen im japanischen Recht: Cashless Payments\, M&
 amp\;A Law\, Joint Parental Responsibility in Japanese Law
URL;VALUE=URI:https://www.mpipriv.de/events/44785/2028073
END:VEVENT
END:VCALENDAR
