BEGIN:VCALENDAR
VERSION:2.0
PRODID:icalendar-ruby
CALSCALE:GREGORIAN
METHOD:PUBLISH
BEGIN:VEVENT
DTSTAMP:20260423T110532Z
UID:https://www.mpipriv.de/events/44784/2028132
DTSTART:20260227T140000Z
CLASS:PUBLIC
CREATED:20260213T105139Z
DESCRIPTION:
LAST-MODIFIED:20260312T152643Z
LOCATION:Max Planck Institute for Comparative and International Private Law
SUMMARY:Current Developments in Japanese Law: Cashless Payments\, M&amp\;A 
 Law\, Joint Parental Responsibility in Japanese Law
URL;VALUE=URI:https://www.mpipriv.de/events/44784/2028132
END:VEVENT
END:VCALENDAR
