BEGIN:VCALENDAR
VERSION:2.0
PRODID:icalendar-ruby
CALSCALE:GREGORIAN
METHOD:PUBLISH
BEGIN:VEVENT
DTSTAMP:20260423T110521Z
UID:https://www.mpipriv.de/events/44752/1136731
DTSTART:20260303T100000Z
CLASS:PUBLIC
CREATED:20260211T084218Z
DESCRIPTION:
LAST-MODIFIED:20260312T152622Z
LOCATION:online
SUMMARY:Current Research in Private International Law: Richard Fentiman (Un
 iversity of Cambridge): Contactless Injunctions: New Approaches to Jurisdi
 ction in English Law
URL;VALUE=URI:https://www.mpipriv.de/events/44752/1136731
END:VEVENT
END:VCALENDAR
