BEGIN:VCALENDAR
VERSION:2.0
PRODID:icalendar-ruby
CALSCALE:GREGORIAN
METHOD:PUBLISH
BEGIN:VEVENT
DTSTAMP:20260425T162521Z
UID:https://www.mpipriv.de/events/44751/1190683
DTSTART:20260303T100000Z
CLASS:PUBLIC
CREATED:20260211T084147Z
DESCRIPTION:
LAST-MODIFIED:20260312T152601Z
LOCATION:Online-Veranstaltung
SUMMARY:Aktuelle Forschung im Internationalen Privatrecht: Richard Fentiman
  (University of Cambridge): Contactless Injunctions: New Approaches to Jur
 isdiction in English Law
URL;VALUE=URI:https://www.mpipriv.de/events/44751/1190683
END:VEVENT
END:VCALENDAR
