BEGIN:VCALENDAR
VERSION:2.0
PRODID:icalendar-ruby
CALSCALE:GREGORIAN
METHOD:PUBLISH
BEGIN:VEVENT
DTSTAMP:20260423T110506Z
UID:https://www.mpipriv.de/events/44732/1136731
DTSTART:20260223T160000Z
CLASS:PUBLIC
CREATED:20260209T153427Z
DESCRIPTION:
LAST-MODIFIED:20260209T165314Z
LOCATION:Max Planck Institute for Comparative and International Private Law
SUMMARY:Hamburg Lecture Series on Chinese Law : Qimu Wang (University Hambu
 rg): Reform des chinesischen Gesellschaftsrechts - Abkehr vom Dualistische
 n Führungssystem?
URL;VALUE=URI:https://www.mpipriv.de/events/44732/1136731
END:VEVENT
END:VCALENDAR
