BEGIN:VCALENDAR
VERSION:2.0
PRODID:icalendar-ruby
CALSCALE:GREGORIAN
METHOD:PUBLISH
BEGIN:VEVENT
DTSTAMP:20260423T110521Z
UID:https://www.mpipriv.de/events/44506/1136731
DTSTART:20260213T140000Z
CLASS:PUBLIC
CREATED:20260123T112927Z
DESCRIPTION:
LAST-MODIFIED:20260312T152802Z
LOCATION:online
SUMMARY:Hamburg Lecture Series on Chinese Law : Ruyi Ding (Stockholm Univer
 sity): The Current Regulation of Students’ Personal Information Processi
 ng via Facial Recognition Technology under Chinese Law
URL;VALUE=URI:https://www.mpipriv.de/events/44506/1136731
END:VEVENT
END:VCALENDAR
