BEGIN:VCALENDAR
VERSION:2.0
PRODID:icalendar-ruby
CALSCALE:GREGORIAN
METHOD:PUBLISH
BEGIN:VEVENT
DTSTAMP:20260423T110522Z
UID:https://www.mpipriv.de/events/44492/1136731
DTSTART:20260204T130000Z
CLASS:PUBLIC
CREATED:20260122T141928Z
DESCRIPTION:
LAST-MODIFIED:20260213T104722Z
LOCATION:online
SUMMARY:Speaker Series of the Minerva Fast Track Research Group "Artificial
  Justice" : Matthias Grabmair (Technical University of Munich): Large Lang
 uage Models for Legal Reasoning and Legislation Support
URL;VALUE=URI:https://www.mpipriv.de/events/44492/1136731
END:VEVENT
END:VCALENDAR
