BEGIN:VCALENDAR
VERSION:2.0
PRODID:icalendar-ruby
CALSCALE:GREGORIAN
METHOD:PUBLISH
BEGIN:VEVENT
DTSTAMP:20260423T110424Z
UID:https://www.mpipriv.de/events/44475/1136731
DTSTART:20260203T100000Z
CLASS:PUBLIC
CREATED:20260121T152554Z
DESCRIPTION:
LAST-MODIFIED:20260213T104832Z
LOCATION:online
SUMMARY:Current Research in Private International Law: Stellina Jolly (Sout
 h Asian University): Forging a Path for Climate Justice: Integrating Publi
 c and Private International Law in Transboundary Litigation in India
URL;VALUE=URI:https://www.mpipriv.de/events/44475/1136731
END:VEVENT
END:VCALENDAR
