BEGIN:VCALENDAR
VERSION:2.0
PRODID:icalendar-ruby
CALSCALE:GREGORIAN
METHOD:PUBLISH
BEGIN:VEVENT
DTSTAMP:20260423T110521Z
UID:https://www.mpipriv.de/events/44078/1136731
DTSTART:20260212T150000Z
CLASS:PUBLIC
CREATED:20251204T164754Z
DESCRIPTION:
LAST-MODIFIED:20251204T165343Z
LOCATION:Max Planck Institute for Comparative and International Private Law
SUMMARY:Gegenwartsdebatten: Prof. Dr. Paula-Irene Villa Braslavsky (Ludwig-
 Maximilians-Universität München): Sexuelle Selbst-Bestimmung\, oder: Wie
  lässt sich selbst bestimmen\, was vorher nicht gewusst werden kann? Sozi
 ologische Anmerkungen.
URL;VALUE=URI:https://www.mpipriv.de/events/44078/1136731
END:VEVENT
END:VCALENDAR
