BEGIN:VCALENDAR
VERSION:2.0
PRODID:icalendar-ruby
CALSCALE:GREGORIAN
METHOD:PUBLISH
BEGIN:VEVENT
DTSTAMP:20260423T094828Z
UID:https://www.mpipriv.de/events/40511/2376
DTSTART:20250204T100000Z
CLASS:PUBLIC
CREATED:20250122T100351Z
DESCRIPTION:
LAST-MODIFIED:20250207T091610Z
LOCATION:online
SUMMARY:Current Research in Private International Law: Pietro Franzina (Cat
 holic University of the Sacred Heart): EU Private International Law at a T
 ime of ‘Broken Multilateralism’ and Growing Geo-Political Tensions
URL;VALUE=URI:https://www.mpipriv.de/events/40511/2376
END:VEVENT
END:VCALENDAR
